BEGIN:VCALENDAR
VERSION:2.0
PRODID:-//Jacobsen Irrigation - ECPv5.16.0//NONSGML v1.0//EN
CALSCALE:GREGORIAN
METHOD:PUBLISH
X-WR-CALNAME:Jacobsen Irrigation
X-ORIGINAL-URL:https://jacobsenirrigation.com
X-WR-CALDESC:Events for Jacobsen Irrigation
BEGIN:VTIMEZONE
TZID:UTC
BEGIN:STANDARD
TZOFFSETFROM:+0000
TZOFFSETTO:+0000
TZNAME:UTC
DTSTART:20170101T000000
END:STANDARD
END:VTIMEZONE
BEGIN:VEVENT
DTSTART;VALUE=DATE:20171214
DTEND;VALUE=DATE:20191215
DTSTAMP:20260421T151200
CREATED:20170825T231213Z
LAST-MODIFIED:20170825T231213Z
UID:16703-1513209600-1576367999@jacobsenirrigation.com
SUMMARY:Winter Break Camp
DESCRIPTION:Children engage in exciting indoor and outdoor activities while exploring the Garden as it takes a long winter's nap!\n\n	\n	\n	\n\n\n	\n		\n	Children can engage in exciting\, hands-on\, indoor and outdoor activities while discovering the Garden in winter. They’ll investigate weather\, explore seasonal adaptations of plants and animals\, enjoy a visit to our Wonderland Express holiday exhibition\, and dabble in art. \n\n	\n\n\n	\n		\n	\n	\n	Daily themes\n\n	\n	\n	\n\n\n	\n		\n	Monday\, December 18 — Winter Celebrations\nTuesday\, December 19 — Snow Science\nWednesday\, December 20 — All Aboard the Wonderland Express\nThursday\, December 21 — Plant & Animal Adaptations\nFriday\, December 22 — Chillerific Art \nTuesday\, January 2 — Winter Celebrations\nWednesday\, January 3 — Snow Science\nThursday\, January 4 — Plant & Animal Adaptations\nFriday\, January 5 — Chillerific Art (Wonderland Express Visit) \n\n	\n\n\n	\n		\n	\n	\n	Rave reviews from parents of campers\n\n	\n	\n	\n\n\n	\n		\n	"Excellent\, rich experience!" \n"My camper enjoyed making treats and learning about origami." \n"He enjoyed looking for animal tracks in the snow and the expedition to the Japanese Garden."
URL:https://jacobsenirrigation.com/classes/winter-break-camp-2/
LOCATION:New York Ardesia Bar\, Lexington Avenue\, New York\, NY\, 10022\, United States
CATEGORIES:Aerobics,Danceing,Tires
END:VEVENT
END:VCALENDAR